BEGIN:VCALENDAR
VERSION:2.0
PRODID:-//wp-events-plugin.com//7.2.3.1//EN
BEGIN:VEVENT
UID:1@miguelangelgr.com
DTSTART;VALUE=DATE:20251022
DTEND;VALUE=DATE:20251027
DTSTAMP:20251016T074631Z
URL:https://miguelangelgr.com/events/formacion-feng-shui/
SUMMARY:Formación Feng Shui
DESCRIPTION:Es el arte de armonizar la energía de las personas con el en
 torno en el que se encuentran\, viven\, trabajan o se desarrollan. Es una
  gran satisfacción ver cambiar las casas de la gente y con ello las perso
 nas que viven en ellas.
CATEGORIES:Feng Shui
END:VEVENT
END:VCALENDAR