BEGIN:VCALENDAR
VERSION:2.0
PRODID:-//wp-events-plugin.com//7.2.3.1//EN
BEGIN:VEVENT
UID:2@miguelangelgr.com
DTSTART:20251020T090000Z
DTEND:20251023T170000Z
DTSTAMP:20251016T074635Z
URL:https://miguelangelgr.com/events/formacion-numerologia/
SUMMARY:Formación Numerología
DESCRIPTION:¿Quienes somos? ¿Cuáles son nuestros aprendizajes?¿Qué nos
  depara el nuevo año?¿Por qué caemos en los mismos errores?¿Qué he de
  hacer para ser feliz? La numerología tiene las respuestas a estas y ot
 ras preguntas existenciales que el hombre siempre se ha hecho y se las con
 tinua haciendo.
CATEGORIES:Numerología
END:VEVENT
END:VCALENDAR